BEGIN:VCALENDAR
VERSION:2.0
PRODID:-//Tukios.com/
BEGIN:VEVENT
UID:0492b203-446a-4982-abe1-1f666e0b0d7c@www.swaimfuneralhome.com
DTSTAMP:20260425T232920Z
DTSTART:20260429T160000Z
DTEND:20260429T163000Z
SUMMARY:Graveside Service
DESCRIPTION:
URL:https://www.swaimfuneralhome.com/obituaries/dora-ashley
LOCATION: 1310 Matt Down Lane  Dodge City KS 67801
GEO:37.7612878;-100.051081
END:VEVENT
END:VCALENDAR