BEGIN:VCALENDAR
VERSION:2.0
PRODID:-//Tukios.com/
BEGIN:VEVENT
UID:638636ad-f92b-4162-a2fc-d5cb461343f2@www.swaimfuneralhome.com
DTSTAMP:20260425T232431Z
DTSTART:20260428T170000Z
DTEND:20260429T010000Z
SUMMARY:Visitation
DESCRIPTION:
URL:https://www.swaimfuneralhome.com/obituaries/dora-ashley
LOCATION:Swaim funeral Chapel of Dodge City 1901 6th Ave  Dodge City KS 
	67801
GEO:37.767385;-100.024195
END:VEVENT
END:VCALENDAR