BEGIN:VCALENDAR
VERSION:2.0
PRODID:-//Tukios.com/
BEGIN:VEVENT
UID:39075951-d7dd-4179-ae89-de6e4dd5072d@www.swaimfuneralhome.com
DTSTAMP:20260420T054436Z
DTSTART:20260422T180000Z
DTEND:20260422T220000Z
SUMMARY:Visitation
DESCRIPTION:
URL:https://www.swaimfuneralhome.com/obituaries/margaret-neufeld
LOCATION:Swaim Funeral Chapel-Montezuma 506 W Cortez  Montezuma  67867
GEO:37.5957752;-100.4504659
END:VEVENT
END:VCALENDAR