BEGIN:VCALENDAR
VERSION:2.0
PRODID:-//Tukios.com/
BEGIN:VEVENT
UID:6beee655-2710-4a68-a999-b36a9de97b54@www.swaimfuneralhome.com
DTSTAMP:20260420T054757Z
DTSTART:20260421T180000Z
DTEND:20260421T220000Z
SUMMARY:Visitation
DESCRIPTION:
URL:https://www.swaimfuneralhome.com/obituaries/margaret-neufeld
LOCATION:Swaim Funeral Chapel-Montezuma 506 W Cortez  Montezuma  67867
GEO:37.5957752;-100.4504659
END:VEVENT
END:VCALENDAR