BEGIN:VCALENDAR
VERSION:2.0
PRODID:-//Tukios.com/
BEGIN:VEVENT
UID:322146ee-32a4-471d-8315-a73e293ceacb@www.swaimfuneralhome.com
DTSTAMP:20260420T054656Z
DTSTART:20260423T153000Z
DTEND:20260423T163000Z
SUMMARY:Funeral Service
DESCRIPTION:
URL:https://www.swaimfuneralhome.com/obituaries/margaret-neufeld
LOCATION:Mennonite Evangelical Church 116 Somer Dr.  Copeland  67837
GEO:37.5364003;-100.6246626
END:VEVENT
END:VCALENDAR